BEGIN:VCALENDAR
VERSION:2.0
PRODID:-//eventon.com NONSGML v1.0//EN
CALSCALE:GREGORIAN
METHOD:PUBLISH
BEGIN:VEVENT
UID:69e4ce7a01d9f
DTSTAMP:20260419T124546Z
DTSTART:20790525
DTEND:20790526
LOCATION:
SUMMARY:Pfingstmontag
DESCRIPTION:Pfingstmontag\nhttps://huenefeld.net/events/pfingstmontag/var/r
 i-53.l-L1
URL:https://huenefeld.net/events/pfingstmontag/var/ri-53.l-L1
END:VEVENT
END:VCALENDAR