BEGIN:VCALENDAR
VERSION:2.0
PRODID:-//eventon.com NONSGML v1.0//EN
CALSCALE:GREGORIAN
METHOD:PUBLISH
BEGIN:VEVENT
UID:69e638325d270
DTSTAMP:20260420T142906Z
DTSTART:20260524
DTEND:20260525
LOCATION:
SUMMARY:Pfingstsonntag
DESCRIPTION:Pfingstsonntag\nhttps://huenefeld.net/events/pfingstsonntag/
URL:https://huenefeld.net/events/pfingstsonntag/
END:VEVENT
END:VCALENDAR